Workbook

Sheet Протокол
A1: Стартовый номер | B1: Команда | C1: Спортивная часть | R1: Творческий и кулинарный конкурс | X1: Итог | Z1: Команда
C2: Номер маршрута | D2: Коррекция расстояния, мин. | E2: Старт | F2: Финиш | G2: Время маршрута | H2: Время маршрута, мин. | I2: Не взято КП, шт. | J2: Штрафное время, мин. | K2: Баллы конкурсов Майкла | L2: Бонус Майкла, мин. | M2: Бонус рогейна, мин. | N2: Бонус креативного фото-КП, мин. | O2: Бонус/штраф состава команды, коэффициент | P2: Итого, мин. | Q2: Место, спортивная часть | R2: Судья 1 | S2: Судья 2 | T2: Судья 3 | U2: Судья 4 | V2: Средний балл | W2: Место, творчество | X2: Итог, баллы | Y2: Место, итог
A3: 1 | B3: =[1]Команды!B2 -> Sex Paddlers | C3: 5 | D3: =VLOOKUP(C3,[1]Маршруты!$A$2:$D$11,4,FALSE) -> 0 | E3: 0.45833333 | F3: 0.69166667 | G3: =F3-E3 -> 0.23333333 | H3: =MINUTE(G3)+HOUR(G3)*60 -> 336 | J3: =I3*50 -> 0 | L3: 0 | M3: 100 | N3: 10 | O3: 1 | P3: =(H3+D3+J3-L3-M3-N3)*O3 -> 226 | Q3: =IFERROR(__xludf.DUMMYFUNCTION("RANK(P3,unique($P$3:$P$11),1)"),3) -> 3 | R3: =5+4+5 -> 14 | S3: =5+4+5 -> 14 | T3: =5+4+5 -> 14 | U3: =5+4+5 -> 14 | V3: =(R3+S3+T3+U3)/4 -> 14 | W3: =IFERROR(__xludf.DUMMYFUNCTION("rank(V3,unique($V$3:$V$11),0)"),2) -> 2 | X3: =W3*0.6+Q3 -> 4.2 | Y3: =IFERROR(__xludf.DUMMYFUNCTION("rank(X3,unique($X$3:$X$11),1)"),2) -> 2 | Z3: =B3 -> Sex Paddlers
A4: 2 | B4: =[1]Команды!B3 -> Часы пьянения | C4: 6 | D4: =VLOOKUP(C4,[1]Маршруты!$A$2:$D$11,4,FALSE) -> 0 | E4: 0.45833333 | F4: 0.69513889 | G4: =F4-E4 -> 0.23680556 | H4: =MINUTE(G4)+HOUR(G4)*60 -> 341 | J4: =I4*50 -> 0 | L4: 0 | M4: 10 | O4: 1 | P4: =(H4+D4+J4-L4-M4-N4)*O4 -> 331 | Q4: =IFERROR(__xludf.DUMMYFUNCTION("RANK(P4,unique($P$3:$P$11),1)"),5) -> 5 | R4: =2+3+4 -> 9 | S4: =2+4+4 -> 10 | T4: =2+4+3 -> 9 | U4: =2+5+4 -> 11 | V4: =(R4+S4+T4+U4)/4 -> 9.75 | W4: =IFERROR(__xludf.DUMMYFUNCTION("rank(V4,unique($V$3:$V$11),0)"),7) -> 7 | X4: =W4*0.6+Q4 -> 9.2 | Y4: =IFERROR(__xludf.DUMMYFUNCTION("rank(X4,unique($X$3:$X$11),1)"),7) -> 7 | Z4: =B4 -> Часы пьянения
A5: 3 | B5: =[1]Команды!B4 -> Звездатые тюлени | C5: 9 | D5: =VLOOKUP(C5,[1]Маршруты!$A$2:$D$11,4,FALSE) -> -4 | E5: 0.45833333 | F5: 0.70069444 | G5: =F5-E5 -> 0.24236111 | H5: =MINUTE(G5)+HOUR(G5)*60 -> 349 | J5: =I5*50 -> 0 | L5: 0 | M5: 10 | O5: 1 | P5: =(H5+D5+J5-L5-M5-N5)*O5 -> 335 | Q5: =IFERROR(__xludf.DUMMYFUNCTION("RANK(P5,unique($P$3:$P$11),1)"),6) -> 6 | R5: =4+5+5 -> 14 | S5: =4+5+4 -> 13 | T5: =4+5+4 -> 13 | U5: =4+5+5 -> 14 | V5: =(R5+S5+T5+U5)/4 -> 13.5 | W5: =IFERROR(__xludf.DUMMYFUNCTION("rank(V5,unique($V$3:$V$11),0)"),4) -> 4 | X5: =W5*0.6+Q5 -> 8.4 | Y5: =IFERROR(__xludf.DUMMYFUNCTION("rank(X5,unique($X$3:$X$11),1)"),6) -> 6 | Z5: =B5 -> Звездатые тюлени
A6: 4 | B6: =[1]Команды!B5 -> Ураган | C6: 8 | D6: =VLOOKUP(C6,[1]Маршруты!$A$2:$D$11,4,FALSE) -> -3 | E6: 0.45833333 | F6: 0.67777778 | G6: =F6-E6 -> 0.21944444 | H6: =MINUTE(G6)+HOUR(G6)*60 -> 316 | J6: =I6*50 -> 0 | L6: 0 | M6: 61 | O6: 1 | P6: =(H6+D6+J6-L6-M6-N6)*O6 -> 252 | Q6: =IFERROR(__xludf.DUMMYFUNCTION("RANK(P6,unique($P$3:$P$11),1)"),4) -> 4 | R6: =5+5+5 -> 15 | S6: =5+5+5 -> 15 | T6: =5+5+5 -> 15 | U6: =5+5+5 -> 15 | V6: =(R6+S6+T6+U6)/4 -> 15 | W6: =IFERROR(__xludf.DUMMYFUNCTION("rank(V6,unique($V$3:$V$11),0)"),1) -> 1 | X6: =W6*0.6+Q6 -> 4.6 | Y6: =IFERROR(__xludf.DUMMYFUNCTION("rank(X6,unique($X$3:$X$11),1)"),3) -> 3 | Z6: =B6 -> Ураган
A7: 5 | B7: =[1]Команды!B6 -> Розовый каяк | C7: 7 | D7: =VLOOKUP(C7,[1]Маршруты!$A$2:$D$11,4,FALSE) -> -1 | E7: 0.45833333 | F7: 0.63958333 | G7: =F7-E7 -> 0.18125 | H7: =MINUTE(G7)+HOUR(G7)*60 -> 261 | J7: =I7*50 -> 0 | L7: 0 | M7: 68 | O7: 1 | P7: =(H7+D7+J7-L7-M7-N7)*O7 -> 192 | Q7: =IFERROR(__xludf.DUMMYFUNCTION("RANK(P7,unique($P$3:$P$11),1)"),1) -> 1 | R7: =4+4+5 -> 13 | S7: =4+4+5 -> 13 | T7: =3+4+4 -> 11 | U7: =4+4+5 -> 13 | V7: =(R7+S7+T7+U7)/4 -> 12.5 | W7: =IFERROR(__xludf.DUMMYFUNCTION("rank(V7,unique($V$3:$V$11),0)"),5) -> 5 | X7: =W7*0.6+Q7 -> 4 | Y7: =IFERROR(__xludf.DUMMYFUNCTION("rank(X7,unique($X$3:$X$11),1)"),1) -> 1 | Z7: =B7 -> Розовый каяк
A8: 6 | B8: =[1]Команды!B7 -> Бугага | C8: 3 | D8: =VLOOKUP(C8,[1]Маршруты!$A$2:$D$11,4,FALSE) -> -4 | E8: 0.45833333 | F8: 0.67013889 | G8: =F8-E8 -> 0.21180556 | H8: =MINUTE(G8)+HOUR(G8)*60 -> 305 | J8: =I8*50 -> 0 | L8: 0 | M8: 100 | O8: 1 | P8: =(H8+D8+J8-L8-M8-N8)*O8 -> 201 | Q8: =IFERROR(__xludf.DUMMYFUNCTION("RANK(P8,unique($P$3:$P$11),1)"),2) -> 2 | R8: =1+4+3 -> 8 | S8: =3+3+3 -> 9 | T8: =2+4+3 -> 9 | U8: =1+3+4 -> 8 | V8: =(R8+S8+T8+U8)/4 -> 8.5 | W8: =IFERROR(__xludf.DUMMYFUNCTION("rank(V8,unique($V$3:$V$11),0)"),8) -> 8 | X8: =W8*0.6+Q8 -> 6.8 | Y8: =IFERROR(__xludf.DUMMYFUNCTION("rank(X8,unique($X$3:$X$11),1)"),4) -> 4 | Z8: =B8 -> Бугага
A9: 7 | B9: =[1]Команды!B8 -> Бешеные селедки | C9: 1 | D9: =VLOOKUP(C9,[1]Маршруты!$A$2:$D$11,4,FALSE) -> 0 | E9: 0.45833333 | F9: 0.71875 | G9: =F9-E9 -> 0.26041667 | H9: =MINUTE(G9)+HOUR(G9)*60 -> 375 | I9: 7 | J9: =I9*50+600 -> 950 | L9: 0 | M9: 100 | O9: 1 | P9: =(H9+D9+J9-L9-M9-N9)*O9 -> 1225 | Q9: =IFERROR(__xludf.DUMMYFUNCTION("RANK(P9,unique($P$3:$P$11),1)"),9) -> 9 | R9: =4+5+3 -> 12 | S9: =4+4+4 -> 12 | T9: =3+4+4 -> 11 | U9: =4+5+4 -> 13 | V9: =(R9+S9+T9+U9)/4 -> 12 | W9: =IFERROR(__xludf.DUMMYFUNCTION("rank(V9,unique($V$3:$V$11),0)"),6) -> 6 | X9: =W9*0.6+Q9 -> 12.6 | Y9: =IFERROR(__xludf.DUMMYFUNCTION("rank(X9,unique($X$3:$X$11),1)"),9) -> 9 | Z9: =B9 -> Бешеные селедки
A10: 8 | B10: =[1]Команды!B9 -> Свидетели WW мамы | C10: 4 | D10: =VLOOKUP(C10,[1]Маршруты!$A$2:$D$11,4,FALSE) -> -5 | E10: 0.45833333 | F10: 0.70416667 | G10: =F10-E10 -> 0.24583333 | H10: =MINUTE(G10)+HOUR(G10)*60 -> 354 | I10: 5 | J10: =I10*50 -> 250 | L10: 0 | M10: 73 | O10: 1 | P10: =(H10+D10+J10-L10-M10-N10)*O10 -> 526 | Q10: =IFERROR(__xludf.DUMMYFUNCTION("RANK(P10,unique($P$3:$P$11),1)"),7) -> 7 | R10: =5+5+5 -> 15 | S10: =5+5+5 -> 15 | T10: =4+5+4 -> 13 | U10: =4+5+4 -> 13 | V10: =(R10+S10+T10+U10)/4 -> 14 | W10: =IFERROR(__xludf.DUMMYFUNCTION("rank(V10,unique($V$3:$V$11),0)"),2) -> 2 | X10: =W10*0.6+Q10 -> 8.2 | Y10: =IFERROR(__xludf.DUMMYFUNCTION("rank(X10,unique($X$3:$X$11),1)"),5) -> 5 | Z10: =B10 -> Свидетели WW мамы
A11: 9 | B11: =[1]Команды!B10 -> Белоснег и гномушки | C11: 2 | D11: =VLOOKUP(C11,[1]Маршруты!$A$2:$D$11,4,FALSE) -> -3 | E11: 0.45833333 | F11: 0.70277778 | G11: =F11-E11 -> 0.24444444 | H11: =MINUTE(G11)+HOUR(G11)*60 -> 352 | I11: 11 | J11: =I11*50 -> 550 | L11: 0 | M11: 10 | O11: 1 | P11: =(H11+D11+J11-L11-M11-N11)*O11 -> 889 | Q11: =IFERROR(__xludf.DUMMYFUNCTION("RANK(P11,unique($P$3:$P$11),1)"),8) -> 8 | R11: =5+4+5 -> 14 | S11: =5+4+5 -> 14 | T11: =4+4+5 -> 13 | U11: =5+4+5 -> 14 | V11: =(R11+S11+T11+U11)/4 -> 13.75 | W11: =IFERROR(__xludf.DUMMYFUNCTION("rank(V11,unique($V$3:$V$11),0)"),3) -> 3 | X11: =W11*0.6+Q11 -> 9.8 | Y11: =IFERROR(__xludf.DUMMYFUNCTION("rank(X11,unique($X$3:$X$11),1)"),8) -> 8 | Z11: =B11 -> Белоснег и гномушки
